BEGIN:VCALENDAR
VERSION:2.0
PRODID:-//164.132.235.17//NONSGML kigkonsult.se iCalcreator 2.20//
CALSCALE:GREGORIAN
METHOD:PUBLISH
X-WR-CALNAME:Healing Hands Luxembourg
X-WR-CALDESC:Every life\, every moment\, every day.
X-FROM-URL:http://Healing-Hands.lu
X-WR-TIMEZONE:Europe/Berlin
BEGIN:VTIMEZONE
TZID:Europe/Berlin
X-LIC-LOCATION:Europe/Berlin
BEGIN:STANDARD
DTSTART:20181028T030000
TZOFFSETFROM:+0200
TZOFFSETTO:+0100
TZNAME:CET
END:STANDARD
BEGIN:DAYLIGHT
DTSTART:20180325T020000
TZOFFSETFROM:+0100
TZOFFSETTO:+0200
TZNAME:CEST
END:DAYLIGHT
END:VTIMEZONE
BEGIN:VEVENT
UID:event_gpmtvnyxhbcb@meetup.com
DTSTAMP:20180703T035136Z
CATEGORIES:
CONTACT:
DESCRIPTION:Yoga and Meditation for Transformation\nTuesday\, May 1 at 7:00
  PM\nLiebe Freunde\, Jeden  Dienstag gibt es Klassisches Yoga für Gesundhe
 it und Wohlbefinden.  Wir arbeiten der Synchronisation der Bewegungen mit 
 der Atmu…\n#meetup_oembed .mu_clearfix:after { visibility: hidden\; displa
 y: block\; font-size: 0\; content: ' '\; clear: both\; height: 0\; }* html
  #meetup_oembed .mu_clearfix\, *:first-child+html #meetup_oembed .mu_clear
 fix { zoom: 1\; }#meetup_oembed { background:#eee\;border:1px solid #ccc\;
 padding:10px\;-moz-border-radius:3px\;-webkit-border-radius:3px\;border-ra
 dius:3px\;margin:0\; font-family: 'Helvetica Neue'\, Helvetica\, Arial\, s
 ans-serif\; font-size: 12px\; }#meetup_oembed h3 { font-weight:normal\; ma
 rgin:0 0 10px\; padding:0\; line-height:26px\; font-family:Georgia\,Palati
 no\,serif\; font-size:24px }#meetup_oembed p { margin: 0 0 10px\; padding:
 0\; line-height:16px\; }#meetup_oembed img { border:none\; margin:0\; padd
 ing:0\; }#meetup_oembed a\, #meetup_oembed a:visited\, #meetup_oembed a:li
 nk { color: #1B76B3\; text-decoration: none\; cursor: hand\; cursor: point
 er\; }#meetup_oembed a:hover { color: #1B76B3\; text-decoration: underline
 \; }#meetup_oembed a.mu_button { font-size:14px\; -moz-border-radius:3px\;
 -webkit-border-radius:3px\;border-radius:3px\;border:2px solid #A7241D\;co
 lor:white!important\;text-decoration:none\;background-color: #CA3E47\; bac
 kground-image: -moz-linear-gradient(top\, #ca3e47\, #a8252e)\; background-
 image: -webkit-gradient(linear\, left bottom\, left top\, color-stop(0\, #
 a8252e)\, color-stop(1\, #ca3e47))\;disvplay:inline-block\;padding:5px 10p
 x\; }#meetup_oembed a.mu_button:hover { color: #fff!important\; text-decor
 ation: none\; }#meetup_oembed .photo { width:50px\; height:50px\; overflow
 :hidden\;background:#ccc\;float:left\;margin:0 5px 0 0\;text-align:center\
 ;padding:1px\; }#meetup_oembed .photo img { height:50px }#meetup_oembed .n
 umber { font-size:18px\; }#meetup_oembed .thing { text-transform: uppercas
 e\; color: #555\; }\n\n\nJeden Dienstag 19:00 – Yoga in Wincrange + Geführ
 te Meditation\nTuesday\, May 1\, 2018\,  7:00 PM\nWincrange Piscine Judo S
 aal Wincrange\, LU\n          1 Yogies Attending           \n             
             \nLiebe Freunde\,Jeden  Dienstag gibt es Klassisches Yoga für 
 Gesundheit und Wohlbefinden.Wir arbeiten der Synchronisation der Bewegunge
 n mit der Atmung\, an der Flexibilitaet\, unserer Staerke und Ausdauer und
  an der Meisterung vorteilhafter Atemtechniken. Vorallem ablernen wir das 
 Losslassen\, uns vollstaendig zu entspannen\, Tiefenentspannung\, und wi…
 \n\nCheck out this Meetup →
DTSTART;TZID=Europe/Berlin:20180501T190000
DTEND;TZID=Europe/Berlin:20180501T220000
GEO:+49.61;+6.11
SEQUENCE:0
SUMMARY:Jeden Dienstag 19:00 – Yoga in Wincrange + Geführte Meditation
URL:http://Healing-Hands.lu/event/jeden-dienstag-1900-yoga-in-wincrange-gef
 uhrte-meditation-10/
X-ALT-DESC;FMTTYPE=text/html:<!DOCTYPE HTML PUBLIC '-//W3C//DTD HTML 3.2//E
 N'>\\n<HTML>\\n<HEAD>\\n<TITLE></TITLE>\\n</HEAD>\\n<BODY><p>Yoga and Medi
 tation for Transformation<br />\nTuesday\, May 1 at 7:00 PM</p>\n<p>Liebe 
 Freunde\, Jeden  Dienstag gibt es Klassisches Yoga für Gesundheit und Wohl
 befinden.  Wir arbeiten der Synchronisation der Bewegungen mit der Atmu…</
 p>\n<style type='text/css'>#meetup_oembed .mu_clearfix:after { visibility:
  hidden\; display: block\; font-size: 0\; content: ' '\; clear: both\; hei
 ght: 0\; }* html #meetup_oembed .mu_clearfix\, *:first-child+html #meetup_
 oembed .mu_clearfix { zoom: 1\; }#meetup_oembed { background:#eee\;border:
 1px solid #ccc\;padding:10px\;-moz-border-radius:3px\;-webkit-border-radiu
 s:3px\;border-radius:3px\;margin:0\; font-family: 'Helvetica Neue'\, Helve
 tica\, Arial\, sans-serif\; font-size: 12px\; }#meetup_oembed h3 { font-we
 ight:normal\; margin:0 0 10px\; padding:0\; line-height:26px\; font-family
 :Georgia\,Palatino\,serif\; font-size:24px }#meetup_oembed p { margin: 0 0
  10px\; padding:0\; line-height:16px\; }#meetup_oembed img { border:none\;
  margin:0\; padding:0\; }#meetup_oembed a\, #meetup_oembed a:visited\, #me
 etup_oembed a:link { color: #1B76B3\; text-decoration: none\; cursor: hand
 \; cursor: pointer\; }#meetup_oembed a:hover { color: #1B76B3\; text-decor
 ation: underline\; }#meetup_oembed a.mu_button { font-size:14px\; -moz-bor
 der-radius:3px\;-webkit-border-radius:3px\;border-radius:3px\;border:2px s
 olid #A7241D\;color:white!important\;text-decoration:none\;background-colo
 r: #CA3E47\; background-image: -moz-linear-gradient(top\, #ca3e47\, #a8252
 e)\; background-image: -webkit-gradient(linear\, left bottom\, left top\, 
 color-stop(0\, #a8252e)\, color-stop(1\, #ca3e47))\;disvplay:inline-block\
 ;padding:5px 10px\; }#meetup_oembed a.mu_button:hover { color: #fff!import
 ant\; text-decoration: none\; }#meetup_oembed .photo { width:50px\; height
 :50px\; overflow:hidden\;background:#ccc\;float:left\;margin:0 5px 0 0\;te
 xt-align:center\;padding:1px\; }#meetup_oembed .photo img { height:50px }#
 meetup_oembed .number { font-size:18px\; }#meetup_oembed .thing { text-tra
 nsform: uppercase\; color: #555\; }</style>\n<div id='meetup_oembed' style
 ='height:287px'>\n<div style='max-height:247px\;overflow:hidden'>\n<h3>Jed
 en Dienstag 19:00 – Yoga in Wincrange + Geführte Meditation</h3>\n<p style
 ='margin:5px 0\;font-size:16px'>Tuesday\, May 1\, 2018\,  7:00 PM</p>\n<p 
 style='margin: 0 0 5px\;'><span style='font-size:14px'>Wincrange Piscine <
 /span><br /><span style='font-size:12px\;'>Judo Saal Wincrange\, LU</span>
 </p>\n<p>          <span style='color:#4F8A10\;font-size:16px\;'>1 Yogies 
 Attending</span>           </p>\n<div style='margin:5px 0 10px' class='mu_
 clearfix'>                         </div>\n<p style='line-height:16px'>Lie
 be Freunde\,Jeden  Dienstag gibt es Klassisches Yoga für Gesundheit und Wo
 hlbefinden.Wir arbeiten der Synchronisation der Bewegungen mit der Atmung\
 , an der Flexibilitaet\, unserer Staerke und Ausdauer und an der Meisterun
 g vorteilhafter Atemtechniken. Vorallem ablernen wir das Losslassen\, uns 
 vollstaendig zu entspannen\, Tiefenentspannung\, und wi…</p>\n</p></div>\n
 <p style='margin:10px 0 0\;'><a href='https://www.meetup.com/Yoga-and-Medi
 tation-for-Transformation-Outdoor-Indoor-Yoga/events/gpmtvnyxhbcb/' target
 ='_blank' class='mu_button'><strong>Check out this Meetup →</strong></a></
 p>\n</div>\n</BODY></HTML>
END:VEVENT
END:VCALENDAR
